BEGIN:VCALENDAR
VERSION:2.0
PRODID:-//Tukios.com/
BEGIN:VEVENT
UID:71de66b7-ecc1-42a5-9b23-2a17279382af@www.smithmortuary.net
DTSTAMP:20260424T192124Z
DTSTART:20260501T180000Z
DTEND:20260502T000000Z
SUMMARY:Visitation
DESCRIPTION:
URL:https://www.smithmortuary.net/obituaries/curtis-mcclendon
LOCATION: 851 W Northside Dr  Clinton MS 39056
GEO:32.3580586;-90.3437568
END:VEVENT
END:VCALENDAR