BEGIN:VCALENDAR
VERSION:2.0
PRODID:-//Tukios.com/
BEGIN:VEVENT
UID:d626a0c0-e023-400d-a5f0-b2e6640f6e66@www.smithmortuary.net
DTSTAMP:20260424T192116Z
DTSTART:20260502T150000Z
DTEND:20260502T160000Z
SUMMARY:Celebration of Life
DESCRIPTION:
URL:https://www.smithmortuary.net/obituaries/curtis-mcclendon
LOCATION: 6004 Jimmy Williams Rd  Clinton MS 39056
GEO:32.4152492;-90.3659904
END:VEVENT
END:VCALENDAR